BEGIN:VCALENDAR
VERSION:2.0
PRODID:ZWP online Livestream
X-WR-TIMEZONE:Europe/Berlin
BEGIN:VTIMEZONE
TZID:Europe/Berlin
X-LIC-LOCATION:Europe/Berlin
BEGIN:DAYLIGHT
TZNAME:CEST
TZOFFSETFROM:+0100
TZOFFSETTO:+0200
DTSTART:19810329T030000
RRULE:FREQ=YEARLY;INTERVAL=1;BYMONTH=3;BYDAY=-1SU
END:DAYLIGHT
BEGIN:STANDARD
TZNAME:CET
TZOFFSETFROM:+0200
TZOFFSETTO:+0100
DTSTART:19961027T030000
RRULE:FREQ=YEARLY;INTERVAL=1;BYMONTH=10;BYDAY=-1SU
END:STANDARD
END:VTIMEZONE
BEGIN:VEVENT
UID:69e8d0d6baa08
DTSTART;TZID=Europe/Berlin:20260422T170000
SEQUENCE:0
TRANSP:OPAQUE
DTEND;TZID=Europe/Berlin:20260422T180000
URL:https://www.zwp-online.info/livestream/kompetente-fullungstherapie-asth
 etisch-effizient-und-wirtschaftlich
SUMMARY:ZWP online Livestream: „Kompetente Füllungstherapie – ästheti
 sch\, effizient und wirtschaftlich“ - https://www.zwp-online.info/livest
 ream/kompetente-fullungstherapie-asthetisch-effizient-und-wirtschaftlich
CLASS:PUBLIC
DESCRIPTION:ZWP online Livestream: „Kompetente Füllungstherapie – äst
 hetisch\, effizient und wirtschaftlich“ - https://www.zwp-online.info/li
 vestream/kompetente-fullungstherapie-asthetisch-effizient-und-wirtschaftli
 ch
X-ALT-DESC;FMTTYPE=text/html:<a href=\"https://www.zwp-online.info/livestre
 am/kompetente-fullungstherapie-asthetisch-effizient-und-wirtschaftlich\">Z
 WP online Livestream - „Kompetente Füllungstherapie – ästhetisch\, e
 ffizient und wirtschaftlich“</a>
DTSTAMP:20260422T154454Z
END:VEVENT
END:VCALENDAR