BEGIN:VCALENDAR
VERSION:2.0
PRODID:ZWP online Livestream
X-WR-TIMEZONE:Europe/Berlin
BEGIN:VTIMEZONE
TZID:Europe/Berlin
X-LIC-LOCATION:Europe/Berlin
BEGIN:DAYLIGHT
TZNAME:CEST
TZOFFSETFROM:+0100
TZOFFSETTO:+0200
DTSTART:19810329T030000
RRULE:FREQ=YEARLY;INTERVAL=1;BYMONTH=3;BYDAY=-1SU
END:DAYLIGHT
BEGIN:STANDARD
TZNAME:CET
TZOFFSETFROM:+0200
TZOFFSETTO:+0100
DTSTART:19961027T030000
RRULE:FREQ=YEARLY;INTERVAL=1;BYMONTH=10;BYDAY=-1SU
END:STANDARD
END:VTIMEZONE
BEGIN:VEVENT
UID:69e6e82ba1599
DTSTART;TZID=Europe/Berlin:20260610T170000
SEQUENCE:0
TRANSP:OPAQUE
DTEND;TZID=Europe/Berlin:20260610T180000
URL:https://www.zwp-online.info/livestream/restauration-tief-subgingivaler-
 defekte-zwischen-klinischer-erfahrung-und-aktueller-datenlage
SUMMARY:ZWP online Livestream: Restauration tief subgingivaler Defekte – 
 zwischen klinischer Erfahrung und aktueller Datenlage - https://www.zwp-on
 line.info/livestream/restauration-tief-subgingivaler-defekte-zwischen-klin
 ischer-erfahrung-und-aktueller-datenlage
CLASS:PUBLIC
DESCRIPTION:ZWP online Livestream: Restauration tief subgingivaler Defekte 
 – zwischen klinischer Erfahrung und aktueller Datenlage - https://www.zw
 p-online.info/livestream/restauration-tief-subgingivaler-defekte-zwischen-
 klinischer-erfahrung-und-aktueller-datenlage
X-ALT-DESC;FMTTYPE=text/html:<a href=\"https://www.zwp-online.info/livestre
 am/restauration-tief-subgingivaler-defekte-zwischen-klinischer-erfahrung-u
 nd-aktueller-datenlage\">ZWP online Livestream - Restauration tief subging
 ivaler Defekte – zwischen klinischer Erfahrung und aktueller Datenlage</
 a>
DTSTAMP:20260421T045955Z
END:VEVENT
END:VCALENDAR