BEGIN:VCALENDAR
VERSION:2.0
PRODID:ZWP online Livestream
X-WR-TIMEZONE:Europe/Berlin
BEGIN:VTIMEZONE
TZID:Europe/Berlin
X-LIC-LOCATION:Europe/Berlin
BEGIN:DAYLIGHT
TZNAME:CEST
TZOFFSETFROM:+0100
TZOFFSETTO:+0200
DTSTART:19810329T030000
RRULE:FREQ=YEARLY;INTERVAL=1;BYMONTH=3;BYDAY=-1SU
END:DAYLIGHT
BEGIN:STANDARD
TZNAME:CET
TZOFFSETFROM:+0200
TZOFFSETTO:+0100
DTSTART:19961027T030000
RRULE:FREQ=YEARLY;INTERVAL=1;BYMONTH=10;BYDAY=-1SU
END:STANDARD
END:VTIMEZONE
BEGIN:VEVENT
UID:69eb79565e6fa
DTSTART;TZID=Europe/Berlin:20260930T170000
SEQUENCE:0
TRANSP:OPAQUE
DTEND;TZID=Europe/Berlin:20260930T180000
URL:https://www.zwp-online.info/livestream/komposit-veneering-im-frontzahnb
 ereich
SUMMARY:ZWP online Livestream: Komposit-Veneering im Frontzahnbereich – O
 ptische Täuschung und klare Konzepte für harmonische Ästhetik und gesch
 lossene Black Triangles - https://www.zwp-online.info/livestream/komposit-
 veneering-im-frontzahnbereich
CLASS:PUBLIC
DESCRIPTION:ZWP online Livestream: Komposit-Veneering im Frontzahnbereich 
 – Optische Täuschung und klare Konzepte für harmonische Ästhetik und 
 geschlossene Black Triangles - https://www.zwp-online.info/livestream/komp
 osit-veneering-im-frontzahnbereich
X-ALT-DESC;FMTTYPE=text/html:<a href=\"https://www.zwp-online.info/livestre
 am/komposit-veneering-im-frontzahnbereich\">ZWP online Livestream - Kompos
 it-Veneering im Frontzahnbereich – Optische Täuschung und klare Konzept
 e für harmonische Ästhetik und geschlossene Black Triangles</a>
DTSTAMP:20260424T160822Z
END:VEVENT
END:VCALENDAR